BEGIN:VCALENDAR
PRODID: -//Microsoft Corporation//Outlook 12.0 MIMEDIR//EN
VERSION:2.0
METHOD:PUBLISH
BEGIN:VEVENT
DTSTART:20210722T163000Z
DTEND:20210722T173000Z
LOCATION:
TRANSP:TRANSPARENT
SEQUENCE:0
UID:390
DTSTAMP:20210722T163000Z
DESCRIPTION:
SUMMARY:Q2 2021 Southwest Airlines Financial Results Conference Call
PRIORITY:5
X-MICROSOFT-CDO-IMPORTANCE:1
CLASS:PUBLIC
X-MICROSOFT-CDO-BUSYSTATUS:
END:VEVENT
END:VCALENDAR
